BEGIN:VCALENDAR
VERSION:2.0
PRODID:-//Inner Peace Psychological Care - ECPv6.15.18//NONSGML v1.0//EN
CALSCALE:GREGORIAN
METHOD:PUBLISH
X-ORIGINAL-URL:https://innerpeacepsych.com
X-WR-CALDESC:Events for Inner Peace Psychological Care
REFRESH-INTERVAL;VALUE=DURATION:PT1H
X-Robots-Tag:noindex
X-PUBLISHED-TTL:PT1H
BEGIN:VTIMEZONE
TZID:America/Chicago
BEGIN:DAYLIGHT
TZOFFSETFROM:-0600
TZOFFSETTO:-0500
TZNAME:CDT
DTSTART:20250309T080000
END:DAYLIGHT
BEGIN:STANDARD
TZOFFSETFROM:-0500
TZOFFSETTO:-0600
TZNAME:CST
DTSTART:20251102T070000
END:STANDARD
BEGIN:DAYLIGHT
TZOFFSETFROM:-0600
TZOFFSETTO:-0500
TZNAME:CDT
DTSTART:20260308T080000
END:DAYLIGHT
BEGIN:STANDARD
TZOFFSETFROM:-0500
TZOFFSETTO:-0600
TZNAME:CST
DTSTART:20261101T070000
END:STANDARD
BEGIN:DAYLIGHT
TZOFFSETFROM:-0600
TZOFFSETTO:-0500
TZNAME:CDT
DTSTART:20270314T080000
END:DAYLIGHT
BEGIN:STANDARD
TZOFFSETFROM:-0500
TZOFFSETTO:-0600
TZNAME:CST
DTSTART:20271107T070000
END:STANDARD
END:VTIMEZONE
BEGIN:VEVENT
DTSTART;TZID=America/Chicago:20260618T173000
DTEND;TZID=America/Chicago:20260618T190000
DTSTAMP:20260425T063201
CREATED:20260331T204446Z
LAST-MODIFIED:20260331T204908Z
UID:5253-1781803800-1781809200@innerpeacepsych.com
SUMMARY:Peaceful Resonance
DESCRIPTION:Step into a serene space and experience Peaceful Resonance\, an evening designed to soothe your mind\, body\, and spirit. In this 60 minute session\, you’ll be guided through a series of restorative practices that help release stress\, restore balance\, and invite inner calm: \n\nSound Bath – immerse yourself in healing vibrations that quiet the mind and open the heart\nGuided Meditation – Be led into a tranquil state of mindfulness\, helping you reconnect and find inner stillness\nReiki Energy Healing – gentle energy work to harmonize your body and mind.\nEar Seeds for Stress Reduction – a subtle\, effective method to ease tension and promote relaxation\n\nDate & Time: Thursday\, June 18th | 5:30 – 7:00 PM\nLocation: 999 N Plaza Dr\, Schaumburg IL Suite 380 \nPresenters: Victoria Kowalska and Teri Calandra\, L.Ac. \nJoin us for this therapeutic\, tranquil journey and leave feeling lighter\, centered\, and deeply at peace. \nLink to register: https://square.link/u/LFleUyNe
URL:https://innerpeacepsych.com/event/peaceful-resonance/
LOCATION:Inner Peace Psychological Care\, 999 Plaza Dr Suite 380\, Schaumburg\, IL\, 60173\, United States
ATTACH;FMTTYPE=image/png:https://innerpeacepsych.com/wp-content/uploads/2026/03/Peaceful-Resonance.png
ORGANIZER;CN="Inner Peace Psychological Care":MAILTO:info@innerpeacepsych.com
END:VEVENT
END:VCALENDAR