BEGIN:VCALENDAR
VERSION:2.0
PRODID:-//Inner Peace Psychological Care - ECPv6.15.18//NONSGML v1.0//EN
CALSCALE:GREGORIAN
METHOD:PUBLISH
X-WR-CALNAME:Inner Peace Psychological Care
X-ORIGINAL-URL:https://innerpeacepsych.com
X-WR-CALDESC:Events for Inner Peace Psychological Care
REFRESH-INTERVAL;VALUE=DURATION:PT1H
X-Robots-Tag:noindex
X-PUBLISHED-TTL:PT1H
BEGIN:VTIMEZONE
TZID:America/Chicago
BEGIN:DAYLIGHT
TZOFFSETFROM:-0600
TZOFFSETTO:-0500
TZNAME:CDT
DTSTART:20240310T080000
END:DAYLIGHT
BEGIN:STANDARD
TZOFFSETFROM:-0500
TZOFFSETTO:-0600
TZNAME:CST
DTSTART:20241103T070000
END:STANDARD
BEGIN:DAYLIGHT
TZOFFSETFROM:-0600
TZOFFSETTO:-0500
TZNAME:CDT
DTSTART:20250309T080000
END:DAYLIGHT
BEGIN:STANDARD
TZOFFSETFROM:-0500
TZOFFSETTO:-0600
TZNAME:CST
DTSTART:20251102T070000
END:STANDARD
BEGIN:DAYLIGHT
TZOFFSETFROM:-0600
TZOFFSETTO:-0500
TZNAME:CDT
DTSTART:20260308T080000
END:DAYLIGHT
BEGIN:STANDARD
TZOFFSETFROM:-0500
TZOFFSETTO:-0600
TZNAME:CST
DTSTART:20261101T070000
END:STANDARD
BEGIN:DAYLIGHT
TZOFFSETFROM:-0600
TZOFFSETTO:-0500
TZNAME:CDT
DTSTART:20270314T080000
END:DAYLIGHT
BEGIN:STANDARD
TZOFFSETFROM:-0500
TZOFFSETTO:-0600
TZNAME:CST
DTSTART:20271107T070000
END:STANDARD
END:VTIMEZONE
BEGIN:VEVENT
DTSTART;TZID=America/Chicago:20251230T183000
DTEND;TZID=America/Chicago:20251230T200000
DTSTAMP:20260425T071933
CREATED:20251111T175546Z
LAST-MODIFIED:20251120T200254Z
UID:4753-1767119400-1767124800@innerpeacepsych.com
SUMMARY:Release and Reset
DESCRIPTION:Release and Reset\nTuesday\, Dec 30 6:30 pm – 8:00 pm\nAs the year comes to a close\, join Victoria for an evening of reflection\, release\, and renewal. Through sound\, breath\, and intention\, we’ll let go of what no longer serves and attune to the frequency of new beginnings while also resting after holidays.\n\nWe have yoga mats and pillows but feel free to bring your own. Register quickly as space is limited!
URL:https://innerpeacepsych.com/event/release-and-reset/
LOCATION:Inner Peace Psychological Care\, 999 Plaza Dr Suite 380\, Schaumburg\, IL\, 60173\, United States
CATEGORIES:Workshops
ATTACH;FMTTYPE=image/jpeg:https://innerpeacepsych.com/wp-content/uploads/2025/11/release-and-reset-workshop-flyer-e1762883525891.jpg
ORGANIZER;CN="Inner Peace Psychological Care":MAILTO:info@innerpeacepsych.com
END:VEVENT
BEGIN:VEVENT
DTSTART;TZID=America/Chicago:20260110T090000
DTEND;TZID=America/Chicago:20260110T120000
DTSTAMP:20260425T071933
CREATED:20251120T195910Z
LAST-MODIFIED:20251120T195910Z
UID:4760-1768035600-1768046400@innerpeacepsych.com
SUMMARY:Dreaming the Year Into Being: Visioning from Stillness & Inner Wisdom
DESCRIPTION: Dreaming the Year Into Being: Visioning from Stillness & Inner Wisdom \n\nInstead of rushing into resolutions\, what if you began the year from a place of stillness and alignment?  \nJoin us for a restorative workshop designed to help you reconnect with your inner wisdom\, clarify your values\, and create a vision that feels authentic and grounded. Through reflection\, journaling\, and sound healing\, you’ll explore how winter’s quiet energy can help you plant the seeds for a meaningful year ahead.  \n Saturday\, January 10\, 2026\, 9-12 pm\n Inner Peace Psychological Care – Schaumburg\, IL\n Reflection | Journaling | Sound Healing | Community | Renewal \nLet this season be your invitation to rest\, realign\, and dream your year into being.  \n  \n Buy tickets on eventbrite
URL:https://innerpeacepsych.com/event/dreaming-the-year-into-being-visioning-from-stillness-inner-wisdom/
LOCATION:Inner Peace Psychological Care\, 999 Plaza Dr Suite 380\, Schaumburg\, IL\, 60173\, United States
CATEGORIES:Workshops
ATTACH;FMTTYPE=image/jpeg:https://innerpeacepsych.com/wp-content/uploads/2025/11/dreaming-year-vision.jpg
ORGANIZER;CN="Inner Peace Psychological Care":MAILTO:info@innerpeacepsych.com
END:VEVENT
BEGIN:VEVENT
DTSTART;TZID=America/Chicago:20260221T103000
DTEND;TZID=America/Chicago:20260221T120000
DTSTAMP:20260425T071933
CREATED:20260128T221731Z
LAST-MODIFIED:20260129T193558Z
UID:5103-1771669800-1771675200@innerpeacepsych.com
SUMMARY:Sound Presence
DESCRIPTION:Saturday February 21st \n10:30 am – 12:00 pm \n  \nRegistration Link: https://square.link/u/amQWkzoZ
URL:https://innerpeacepsych.com/event/sound-presence/
LOCATION:Inner Peace Psychological Care\, 999 Plaza Dr Suite 380\, Schaumburg\, IL\, 60173\, United States
CATEGORIES:Workshops
ATTACH;FMTTYPE=image/jpeg:https://innerpeacepsych.com/wp-content/uploads/2026/01/sound-presence-february.jpg
END:VEVENT
BEGIN:VEVENT
DTSTART;TZID=America/Chicago:20260223T170000
DTEND;TZID=America/Chicago:20260223T180000
DTSTAMP:20260425T071933
CREATED:20260129T194616Z
LAST-MODIFIED:20260316T153708Z
UID:5167-1771866000-1771869600@innerpeacepsych.com
SUMMARY:Your Hero’s Journey February 23
DESCRIPTION:Your Hero’s Journey is an in-person therapy group for neurodivergent\, geeky\, and socially anxious adults who want to better understand themselves and connect with others. Using comics and storytelling\, participants explore identity\, values\, emotions\, and life challenges in a supportive\, low-pressure space. No art skills are required\, and sharing is always optional.\nMondays at 5:00 PM | In person | February 23–April 27
URL:https://innerpeacepsych.com/event/your-heros-journey/
LOCATION:Inner Peace Psychological Care\, 999 Plaza Dr Suite 380\, Schaumburg\, IL\, 60173\, United States
CATEGORIES:Workshops
ATTACH;FMTTYPE=image/png:https://innerpeacepsych.com/wp-content/uploads/2026/01/heros-journey-group.png
END:VEVENT
BEGIN:VEVENT
DTSTART;TZID=America/Chicago:20260302T170000
DTEND;TZID=America/Chicago:20260302T180000
DTSTAMP:20260425T071933
CREATED:20260129T194653Z
LAST-MODIFIED:20260316T153703Z
UID:5169-1772470800-1772474400@innerpeacepsych.com
SUMMARY:Your Hero’s Journey March 2
DESCRIPTION:Your Hero’s Journey is an in-person therapy group for neurodivergent\, geeky\, and socially anxious adults who want to better understand themselves and connect with others. Using comics and storytelling\, participants explore identity\, values\, emotions\, and life challenges in a supportive\, low-pressure space. No art skills are required\, and sharing is always optional.\nMondays at 5:00 PM | In person | February 23–April 27
URL:https://innerpeacepsych.com/event/your-heros-journey-2/
LOCATION:Inner Peace Psychological Care\, 999 Plaza Dr Suite 380\, Schaumburg\, IL\, 60173\, United States
CATEGORIES:Workshops
ATTACH;FMTTYPE=image/png:https://innerpeacepsych.com/wp-content/uploads/2026/01/heros-journey-group.png
END:VEVENT
BEGIN:VEVENT
DTSTART;TZID=America/Chicago:20260309T170000
DTEND;TZID=America/Chicago:20260309T180000
DTSTAMP:20260425T071933
CREATED:20260129T194719Z
LAST-MODIFIED:20260316T153658Z
UID:5171-1773075600-1773079200@innerpeacepsych.com
SUMMARY:Your Hero’s Journey March 9
DESCRIPTION:Your Hero’s Journey is an in-person therapy group for neurodivergent\, geeky\, and socially anxious adults who want to better understand themselves and connect with others. Using comics and storytelling\, participants explore identity\, values\, emotions\, and life challenges in a supportive\, low-pressure space. No art skills are required\, and sharing is always optional.\nMondays at 5:00 PM | In person | February 23–April 27
URL:https://innerpeacepsych.com/event/your-heros-journey-3/
LOCATION:Inner Peace Psychological Care\, 999 Plaza Dr Suite 380\, Schaumburg\, IL\, 60173\, United States
CATEGORIES:Workshops
ATTACH;FMTTYPE=image/png:https://innerpeacepsych.com/wp-content/uploads/2026/01/heros-journey-group.png
END:VEVENT
BEGIN:VEVENT
DTSTART;TZID=America/Chicago:20260314T090000
DTEND;TZID=America/Chicago:20260314T120000
DTSTAMP:20260425T071933
CREATED:20260119T210407Z
LAST-MODIFIED:20260119T210407Z
UID:5088-1773478800-1773489600@innerpeacepsych.com
SUMMARY:Emerging After Winter Managing Anxiety Through Change
DESCRIPTION:Emerging After Winter Managing Anxiety Through Change\nMarch 14 9 am – 12 pm\nRegistration Link: https://square.link/u/HglmUTfL
URL:https://innerpeacepsych.com/event/emerging-after-winter-managing-anxiety-through-change/
LOCATION:Inner Peace Psychological Care\, 999 Plaza Dr Suite 380\, Schaumburg\, IL\, 60173\, United States
CATEGORIES:Workshops
ATTACH;FMTTYPE=image/png:https://innerpeacepsych.com/wp-content/uploads/2026/01/Emerging-After-Winter-1.png
ORGANIZER;CN="Inner Peace Psychological Care":MAILTO:info@innerpeacepsych.com
END:VEVENT
BEGIN:VEVENT
DTSTART;TZID=America/Chicago:20260316T170000
DTEND;TZID=America/Chicago:20260316T180000
DTSTAMP:20260425T071933
CREATED:20260129T194743Z
LAST-MODIFIED:20260316T153540Z
UID:5173-1773680400-1773684000@innerpeacepsych.com
SUMMARY:Your Hero’s Journey March 16
DESCRIPTION:Your Hero’s Journey is an in-person therapy group for neurodivergent\, geeky\, and socially anxious adults who want to better understand themselves and connect with others. Using comics and storytelling\, participants explore identity\, values\, emotions\, and life challenges in a supportive\, low-pressure space. No art skills are required\, and sharing is always optional.\nMondays at 5:00 PM | In person | February 23–April 27
URL:https://innerpeacepsych.com/event/your-heros-journey-4/
LOCATION:Inner Peace Psychological Care\, 999 Plaza Dr Suite 380\, Schaumburg\, IL\, 60173\, United States
CATEGORIES:Workshops
ATTACH;FMTTYPE=image/png:https://innerpeacepsych.com/wp-content/uploads/2026/01/heros-journey-group.png
END:VEVENT
BEGIN:VEVENT
DTSTART;TZID=America/Chicago:20260323T170000
DTEND;TZID=America/Chicago:20260323T180000
DTSTAMP:20260425T071933
CREATED:20260129T194813Z
LAST-MODIFIED:20260316T153546Z
UID:5175-1774285200-1774288800@innerpeacepsych.com
SUMMARY:Your Hero’s Journey March 23
DESCRIPTION:Your Hero’s Journey is an in-person therapy group for neurodivergent\, geeky\, and socially anxious adults who want to better understand themselves and connect with others. Using comics and storytelling\, participants explore identity\, values\, emotions\, and life challenges in a supportive\, low-pressure space. No art skills are required\, and sharing is always optional.\nMondays at 5:00 PM | In person | February 23–April 27
URL:https://innerpeacepsych.com/event/your-heros-journey-5/
LOCATION:Inner Peace Psychological Care\, 999 Plaza Dr Suite 380\, Schaumburg\, IL\, 60173\, United States
CATEGORIES:Workshops
ATTACH;FMTTYPE=image/png:https://innerpeacepsych.com/wp-content/uploads/2026/01/heros-journey-group.png
END:VEVENT
BEGIN:VEVENT
DTSTART;TZID=America/Chicago:20260330T170000
DTEND;TZID=America/Chicago:20260330T180000
DTSTAMP:20260425T071933
CREATED:20260129T195159Z
LAST-MODIFIED:20260316T153552Z
UID:5177-1774890000-1774893600@innerpeacepsych.com
SUMMARY:Your Hero’s Journey March 30
DESCRIPTION:Your Hero’s Journey is an in-person therapy group for neurodivergent\, geeky\, and socially anxious adults who want to better understand themselves and connect with others. Using comics and storytelling\, participants explore identity\, values\, emotions\, and life challenges in a supportive\, low-pressure space. No art skills are required\, and sharing is always optional.\nMondays at 5:00 PM | In person | February 23–April 27
URL:https://innerpeacepsych.com/event/your-heros-journey-6/
LOCATION:Inner Peace Psychological Care\, 999 Plaza Dr Suite 380\, Schaumburg\, IL\, 60173\, United States
CATEGORIES:Workshops
ATTACH;FMTTYPE=image/png:https://innerpeacepsych.com/wp-content/uploads/2026/01/heros-journey-group.png
END:VEVENT
BEGIN:VEVENT
DTSTART;TZID=America/Chicago:20260406T170000
DTEND;TZID=America/Chicago:20260406T180000
DTSTAMP:20260425T071933
CREATED:20260129T195223Z
LAST-MODIFIED:20260316T153559Z
UID:5179-1775494800-1775498400@innerpeacepsych.com
SUMMARY:Your Hero’s Journey April 6
DESCRIPTION:Your Hero’s Journey is an in-person therapy group for neurodivergent\, geeky\, and socially anxious adults who want to better understand themselves and connect with others. Using comics and storytelling\, participants explore identity\, values\, emotions\, and life challenges in a supportive\, low-pressure space. No art skills are required\, and sharing is always optional.\nMondays at 5:00 PM | In person | February 23–April 27
URL:https://innerpeacepsych.com/event/your-heros-journey-7/
LOCATION:Inner Peace Psychological Care\, 999 Plaza Dr Suite 380\, Schaumburg\, IL\, 60173\, United States
CATEGORIES:Workshops
ATTACH;FMTTYPE=image/png:https://innerpeacepsych.com/wp-content/uploads/2026/01/heros-journey-group.png
END:VEVENT
BEGIN:VEVENT
DTSTART;TZID=America/Chicago:20260413T170000
DTEND;TZID=America/Chicago:20260413T180000
DTSTAMP:20260425T071933
CREATED:20260129T195242Z
LAST-MODIFIED:20260316T153605Z
UID:5181-1776099600-1776103200@innerpeacepsych.com
SUMMARY:Your Hero’s Journey April 13
DESCRIPTION:Your Hero’s Journey is an in-person therapy group for neurodivergent\, geeky\, and socially anxious adults who want to better understand themselves and connect with others. Using comics and storytelling\, participants explore identity\, values\, emotions\, and life challenges in a supportive\, low-pressure space. No art skills are required\, and sharing is always optional.\nMondays at 5:00 PM | In person | February 23–April 27
URL:https://innerpeacepsych.com/event/your-heros-journey-8/
LOCATION:Inner Peace Psychological Care\, 999 Plaza Dr Suite 380\, Schaumburg\, IL\, 60173\, United States
CATEGORIES:Workshops
ATTACH;FMTTYPE=image/png:https://innerpeacepsych.com/wp-content/uploads/2026/01/heros-journey-group.png
END:VEVENT
BEGIN:VEVENT
DTSTART;TZID=America/Chicago:20260416T190000
DTEND;TZID=America/Chicago:20260416T200000
DTSTAMP:20260425T071933
CREATED:20260331T204258Z
LAST-MODIFIED:20260331T204951Z
UID:5251-1776366000-1776369600@innerpeacepsych.com
SUMMARY:Sound Presence April Sound Bath
DESCRIPTION:Sound Presence April Sound Bath\n4/16/2026\n7 pm\n999 N. Plaza Dr.\, Suite 380\, Schaumburg\, IL 60173\nLink to register: https://square.link/u/bRwCQFV8
URL:https://innerpeacepsych.com/event/sound-presence-april-sound-bath/
LOCATION:Inner Peace Psychological Care\, 999 Plaza Dr Suite 380\, Schaumburg\, IL\, 60173\, United States
ATTACH;FMTTYPE=image/png:https://innerpeacepsych.com/wp-content/uploads/2026/03/Horizontal-April-Flyer.png
ORGANIZER;CN="Inner Peace Psychological Care":MAILTO:info@innerpeacepsych.com
END:VEVENT
BEGIN:VEVENT
DTSTART;TZID=America/Chicago:20260420T170000
DTEND;TZID=America/Chicago:20260420T180000
DTSTAMP:20260425T071933
CREATED:20260129T195326Z
LAST-MODIFIED:20260316T153612Z
UID:5183-1776704400-1776708000@innerpeacepsych.com
SUMMARY:Your Hero’s Journey April 20
DESCRIPTION:Your Hero’s Journey is an in-person therapy group for neurodivergent\, geeky\, and socially anxious adults who want to better understand themselves and connect with others. Using comics and storytelling\, participants explore identity\, values\, emotions\, and life challenges in a supportive\, low-pressure space. No art skills are required\, and sharing is always optional.\nMondays at 5:00 PM | In person | February 23–April 27
URL:https://innerpeacepsych.com/event/your-heros-journey-9/
LOCATION:Inner Peace Psychological Care\, 999 Plaza Dr Suite 380\, Schaumburg\, IL\, 60173\, United States
CATEGORIES:Workshops
ATTACH;FMTTYPE=image/png:https://innerpeacepsych.com/wp-content/uploads/2026/01/heros-journey-group.png
END:VEVENT
BEGIN:VEVENT
DTSTART;TZID=America/Chicago:20260427T170000
DTEND;TZID=America/Chicago:20260427T180000
DTSTAMP:20260425T071933
CREATED:20260129T195341Z
LAST-MODIFIED:20260316T153617Z
UID:5185-1777309200-1777312800@innerpeacepsych.com
SUMMARY:Your Hero’s Journey April 27
DESCRIPTION:Your Hero’s Journey is an in-person therapy group for neurodivergent\, geeky\, and socially anxious adults who want to better understand themselves and connect with others. Using comics and storytelling\, participants explore identity\, values\, emotions\, and life challenges in a supportive\, low-pressure space. No art skills are required\, and sharing is always optional.\nMondays at 5:00 PM | In person | February 23–April 27
URL:https://innerpeacepsych.com/event/your-heros-journey-10/
LOCATION:Inner Peace Psychological Care\, 999 Plaza Dr Suite 380\, Schaumburg\, IL\, 60173\, United States
CATEGORIES:Workshops
ATTACH;FMTTYPE=image/png:https://innerpeacepsych.com/wp-content/uploads/2026/01/heros-journey-group.png
END:VEVENT
BEGIN:VEVENT
DTSTART;TZID=America/Chicago:20260530T090000
DTEND;TZID=America/Chicago:20260530T120000
DTSTAMP:20260425T071933
CREATED:20260401T203006Z
LAST-MODIFIED:20260403T154332Z
UID:5270-1780131600-1780142400@innerpeacepsych.com
SUMMARY:Stepping Into the Light: Confidence\, Visibility & Being Seen
DESCRIPTION:May 30 | 9:00 AM – 12:00 PM\nInner Peace Psychological Care | Schaumburg\, IL \nAs we move from spring into summer\, many of us are invited to step forward with greater confidence and authenticity. Yet self-doubt and the voice of the inner critic can often hold us back from fully showing up as ourselves. \nThis experiential workshop will explore the relationship between confidence\, self-acceptance\, and the courage to be seen. Through guided reflection\, discussion\, and experiential exercises\, participants will examine the inner critic\, reconnect with their strengths\, and explore what it means to embrace their wholeness. \nThe workshop will conclude with a reflective sound healing experience to support grounding and integration. \n  \nSpace is limited. \nRegistration: https://square.link/u/kle6V6rn
URL:https://innerpeacepsych.com/event/stepping-into-the-light-confidence-visibility-being-seen/
LOCATION:Inner Peace Psychological Care\, 999 Plaza Dr Suite 380\, Schaumburg\, IL\, 60173\, United States
CATEGORIES:Workshops
ATTACH;FMTTYPE=image/png:https://innerpeacepsych.com/wp-content/uploads/2026/04/Stepping-Into-the-Light.png
ORGANIZER;CN="Inner Peace Psychological Care":MAILTO:info@innerpeacepsych.com
END:VEVENT
BEGIN:VEVENT
DTSTART;TZID=America/Chicago:20260618T173000
DTEND;TZID=America/Chicago:20260618T190000
DTSTAMP:20260425T071933
CREATED:20260331T204446Z
LAST-MODIFIED:20260331T204908Z
UID:5253-1781803800-1781809200@innerpeacepsych.com
SUMMARY:Peaceful Resonance
DESCRIPTION:Step into a serene space and experience Peaceful Resonance\, an evening designed to soothe your mind\, body\, and spirit. In this 60 minute session\, you’ll be guided through a series of restorative practices that help release stress\, restore balance\, and invite inner calm: \n\nSound Bath – immerse yourself in healing vibrations that quiet the mind and open the heart\nGuided Meditation – Be led into a tranquil state of mindfulness\, helping you reconnect and find inner stillness\nReiki Energy Healing – gentle energy work to harmonize your body and mind.\nEar Seeds for Stress Reduction – a subtle\, effective method to ease tension and promote relaxation\n\nDate & Time: Thursday\, June 18th | 5:30 – 7:00 PM\nLocation: 999 N Plaza Dr\, Schaumburg IL Suite 380 \nPresenters: Victoria Kowalska and Teri Calandra\, L.Ac. \nJoin us for this therapeutic\, tranquil journey and leave feeling lighter\, centered\, and deeply at peace. \nLink to register: https://square.link/u/LFleUyNe
URL:https://innerpeacepsych.com/event/peaceful-resonance/
LOCATION:Inner Peace Psychological Care\, 999 Plaza Dr Suite 380\, Schaumburg\, IL\, 60173\, United States
ATTACH;FMTTYPE=image/png:https://innerpeacepsych.com/wp-content/uploads/2026/03/Peaceful-Resonance.png
ORGANIZER;CN="Inner Peace Psychological Care":MAILTO:info@innerpeacepsych.com
END:VEVENT
END:VCALENDAR