BEGIN:VCALENDAR
VERSION:2.0
PRODID:-//Inner Peace Psychological Care - ECPv6.15.18//NONSGML v1.0//EN
CALSCALE:GREGORIAN
METHOD:PUBLISH
X-ORIGINAL-URL:https://innerpeacepsych.com
X-WR-CALDESC:Events for Inner Peace Psychological Care
REFRESH-INTERVAL;VALUE=DURATION:PT1H
X-Robots-Tag:noindex
X-PUBLISHED-TTL:PT1H
BEGIN:VTIMEZONE
TZID:America/Chicago
BEGIN:DAYLIGHT
TZOFFSETFROM:-0600
TZOFFSETTO:-0500
TZNAME:CDT
DTSTART:20250309T080000
END:DAYLIGHT
BEGIN:STANDARD
TZOFFSETFROM:-0500
TZOFFSETTO:-0600
TZNAME:CST
DTSTART:20251102T070000
END:STANDARD
BEGIN:DAYLIGHT
TZOFFSETFROM:-0600
TZOFFSETTO:-0500
TZNAME:CDT
DTSTART:20260308T080000
END:DAYLIGHT
BEGIN:STANDARD
TZOFFSETFROM:-0500
TZOFFSETTO:-0600
TZNAME:CST
DTSTART:20261101T070000
END:STANDARD
BEGIN:DAYLIGHT
TZOFFSETFROM:-0600
TZOFFSETTO:-0500
TZNAME:CDT
DTSTART:20270314T080000
END:DAYLIGHT
BEGIN:STANDARD
TZOFFSETFROM:-0500
TZOFFSETTO:-0600
TZNAME:CST
DTSTART:20271107T070000
END:STANDARD
END:VTIMEZONE
BEGIN:VEVENT
DTSTART;TZID=America/Chicago:20260221T103000
DTEND;TZID=America/Chicago:20260221T120000
DTSTAMP:20260425T084512
CREATED:20260128T221731Z
LAST-MODIFIED:20260129T193558Z
UID:5103-1771669800-1771675200@innerpeacepsych.com
SUMMARY:Sound Presence
DESCRIPTION:Saturday February 21st \n10:30 am – 12:00 pm \n  \nRegistration Link: https://square.link/u/amQWkzoZ
URL:https://innerpeacepsych.com/event/sound-presence/
LOCATION:Inner Peace Psychological Care\, 999 Plaza Dr Suite 380\, Schaumburg\, IL\, 60173\, United States
CATEGORIES:Workshops
ATTACH;FMTTYPE=image/jpeg:https://innerpeacepsych.com/wp-content/uploads/2026/01/sound-presence-february.jpg
END:VEVENT
END:VCALENDAR