BEGIN:VCALENDAR
VERSION:2.0
PRODID:-//Inner Peace Psychological Care - ECPv6.15.18//NONSGML v1.0//EN
CALSCALE:GREGORIAN
METHOD:PUBLISH
X-WR-CALNAME:Inner Peace Psychological Care
X-ORIGINAL-URL:https://innerpeacepsych.com
X-WR-CALDESC:Events for Inner Peace Psychological Care
REFRESH-INTERVAL;VALUE=DURATION:PT1H
X-Robots-Tag:noindex
X-PUBLISHED-TTL:PT1H
BEGIN:VTIMEZONE
TZID:America/Chicago
BEGIN:DAYLIGHT
TZOFFSETFROM:-0600
TZOFFSETTO:-0500
TZNAME:CDT
DTSTART:20240310T080000
END:DAYLIGHT
BEGIN:STANDARD
TZOFFSETFROM:-0500
TZOFFSETTO:-0600
TZNAME:CST
DTSTART:20241103T070000
END:STANDARD
BEGIN:DAYLIGHT
TZOFFSETFROM:-0600
TZOFFSETTO:-0500
TZNAME:CDT
DTSTART:20250309T080000
END:DAYLIGHT
BEGIN:STANDARD
TZOFFSETFROM:-0500
TZOFFSETTO:-0600
TZNAME:CST
DTSTART:20251102T070000
END:STANDARD
BEGIN:DAYLIGHT
TZOFFSETFROM:-0600
TZOFFSETTO:-0500
TZNAME:CDT
DTSTART:20260308T080000
END:DAYLIGHT
BEGIN:STANDARD
TZOFFSETFROM:-0500
TZOFFSETTO:-0600
TZNAME:CST
DTSTART:20261101T070000
END:STANDARD
END:VTIMEZONE
BEGIN:VEVENT
DTSTART;TZID=America/Chicago:20251230T183000
DTEND;TZID=America/Chicago:20251230T200000
DTSTAMP:20260425T101217
CREATED:20251111T175546Z
LAST-MODIFIED:20251120T200254Z
UID:4753-1767119400-1767124800@innerpeacepsych.com
SUMMARY:Release and Reset
DESCRIPTION:Release and Reset\nTuesday\, Dec 30 6:30 pm – 8:00 pm\nAs the year comes to a close\, join Victoria for an evening of reflection\, release\, and renewal. Through sound\, breath\, and intention\, we’ll let go of what no longer serves and attune to the frequency of new beginnings while also resting after holidays.\n\nWe have yoga mats and pillows but feel free to bring your own. Register quickly as space is limited!
URL:https://innerpeacepsych.com/event/release-and-reset/
LOCATION:Inner Peace Psychological Care\, 999 Plaza Dr Suite 380\, Schaumburg\, IL\, 60173\, United States
CATEGORIES:Workshops
ATTACH;FMTTYPE=image/jpeg:https://innerpeacepsych.com/wp-content/uploads/2025/11/release-and-reset-workshop-flyer-e1762883525891.jpg
ORGANIZER;CN="Inner Peace Psychological Care":MAILTO:info@innerpeacepsych.com
END:VEVENT
END:VCALENDAR