BEGIN:VCALENDAR
VERSION:2.0
PRODID:-//Inner Peace Psychological Care - ECPv6.15.18//NONSGML v1.0//EN
CALSCALE:GREGORIAN
METHOD:PUBLISH
X-ORIGINAL-URL:https://innerpeacepsych.com
X-WR-CALDESC:Events for Inner Peace Psychological Care
REFRESH-INTERVAL;VALUE=DURATION:PT1H
X-Robots-Tag:noindex
X-PUBLISHED-TTL:PT1H
BEGIN:VTIMEZONE
TZID:America/Chicago
BEGIN:DAYLIGHT
TZOFFSETFROM:-0600
TZOFFSETTO:-0500
TZNAME:CDT
DTSTART:20250309T080000
END:DAYLIGHT
BEGIN:STANDARD
TZOFFSETFROM:-0500
TZOFFSETTO:-0600
TZNAME:CST
DTSTART:20251102T070000
END:STANDARD
BEGIN:DAYLIGHT
TZOFFSETFROM:-0600
TZOFFSETTO:-0500
TZNAME:CDT
DTSTART:20260308T080000
END:DAYLIGHT
BEGIN:STANDARD
TZOFFSETFROM:-0500
TZOFFSETTO:-0600
TZNAME:CST
DTSTART:20261101T070000
END:STANDARD
BEGIN:DAYLIGHT
TZOFFSETFROM:-0600
TZOFFSETTO:-0500
TZNAME:CDT
DTSTART:20270314T080000
END:DAYLIGHT
BEGIN:STANDARD
TZOFFSETFROM:-0500
TZOFFSETTO:-0600
TZNAME:CST
DTSTART:20271107T070000
END:STANDARD
END:VTIMEZONE
BEGIN:VEVENT
DTSTART;TZID=America/Chicago:20260110T090000
DTEND;TZID=America/Chicago:20260110T120000
DTSTAMP:20260425T065834
CREATED:20251120T195910Z
LAST-MODIFIED:20251120T195910Z
UID:4760-1768035600-1768046400@innerpeacepsych.com
SUMMARY:Dreaming the Year Into Being: Visioning from Stillness & Inner Wisdom
DESCRIPTION: Dreaming the Year Into Being: Visioning from Stillness & Inner Wisdom \n\nInstead of rushing into resolutions\, what if you began the year from a place of stillness and alignment?  \nJoin us for a restorative workshop designed to help you reconnect with your inner wisdom\, clarify your values\, and create a vision that feels authentic and grounded. Through reflection\, journaling\, and sound healing\, you’ll explore how winter’s quiet energy can help you plant the seeds for a meaningful year ahead.  \n Saturday\, January 10\, 2026\, 9-12 pm\n Inner Peace Psychological Care – Schaumburg\, IL\n Reflection | Journaling | Sound Healing | Community | Renewal \nLet this season be your invitation to rest\, realign\, and dream your year into being.  \n  \n Buy tickets on eventbrite
URL:https://innerpeacepsych.com/event/dreaming-the-year-into-being-visioning-from-stillness-inner-wisdom/
LOCATION:Inner Peace Psychological Care\, 999 Plaza Dr Suite 380\, Schaumburg\, IL\, 60173\, United States
CATEGORIES:Workshops
ATTACH;FMTTYPE=image/jpeg:https://innerpeacepsych.com/wp-content/uploads/2025/11/dreaming-year-vision.jpg
ORGANIZER;CN="Inner Peace Psychological Care":MAILTO:info@innerpeacepsych.com
END:VEVENT
END:VCALENDAR