BEGIN:VCALENDAR
VERSION:2.0
PRODID:-//Inner Peace Psychological Care - ECPv6.15.18//NONSGML v1.0//EN
CALSCALE:GREGORIAN
METHOD:PUBLISH
X-WR-CALNAME:Inner Peace Psychological Care
X-ORIGINAL-URL:https://innerpeacepsych.com
X-WR-CALDESC:Events for Inner Peace Psychological Care
REFRESH-INTERVAL;VALUE=DURATION:PT1H
X-Robots-Tag:noindex
X-PUBLISHED-TTL:PT1H
BEGIN:VTIMEZONE
TZID:America/Chicago
BEGIN:DAYLIGHT
TZOFFSETFROM:-0600
TZOFFSETTO:-0500
TZNAME:CDT
DTSTART:20250309T080000
END:DAYLIGHT
BEGIN:STANDARD
TZOFFSETFROM:-0500
TZOFFSETTO:-0600
TZNAME:CST
DTSTART:20251102T070000
END:STANDARD
BEGIN:DAYLIGHT
TZOFFSETFROM:-0600
TZOFFSETTO:-0500
TZNAME:CDT
DTSTART:20260308T080000
END:DAYLIGHT
BEGIN:STANDARD
TZOFFSETFROM:-0500
TZOFFSETTO:-0600
TZNAME:CST
DTSTART:20261101T070000
END:STANDARD
BEGIN:DAYLIGHT
TZOFFSETFROM:-0600
TZOFFSETTO:-0500
TZNAME:CDT
DTSTART:20270314T080000
END:DAYLIGHT
BEGIN:STANDARD
TZOFFSETFROM:-0500
TZOFFSETTO:-0600
TZNAME:CST
DTSTART:20271107T070000
END:STANDARD
END:VTIMEZONE
BEGIN:VEVENT
DTSTART;TZID=America/Chicago:20260427T170000
DTEND;TZID=America/Chicago:20260427T180000
DTSTAMP:20260423T075644
CREATED:20260129T195341Z
LAST-MODIFIED:20260316T153617Z
UID:5185-1777309200-1777312800@innerpeacepsych.com
SUMMARY:Your Hero’s Journey April 27
DESCRIPTION:Your Hero’s Journey is an in-person therapy group for neurodivergent\, geeky\, and socially anxious adults who want to better understand themselves and connect with others. Using comics and storytelling\, participants explore identity\, values\, emotions\, and life challenges in a supportive\, low-pressure space. No art skills are required\, and sharing is always optional.\nMondays at 5:00 PM | In person | February 23–April 27
URL:https://innerpeacepsych.com/event/your-heros-journey-10/
LOCATION:Inner Peace Psychological Care\, 999 Plaza Dr Suite 380\, Schaumburg\, IL\, 60173\, United States
CATEGORIES:Workshops
ATTACH;FMTTYPE=image/png:https://innerpeacepsych.com/wp-content/uploads/2026/01/heros-journey-group.png
END:VEVENT
BEGIN:VEVENT
DTSTART;TZID=America/Chicago:20260530T090000
DTEND;TZID=America/Chicago:20260530T120000
DTSTAMP:20260423T075644
CREATED:20260401T203006Z
LAST-MODIFIED:20260403T154332Z
UID:5270-1780131600-1780142400@innerpeacepsych.com
SUMMARY:Stepping Into the Light: Confidence\, Visibility & Being Seen
DESCRIPTION:May 30 | 9:00 AM – 12:00 PM\nInner Peace Psychological Care | Schaumburg\, IL \nAs we move from spring into summer\, many of us are invited to step forward with greater confidence and authenticity. Yet self-doubt and the voice of the inner critic can often hold us back from fully showing up as ourselves. \nThis experiential workshop will explore the relationship between confidence\, self-acceptance\, and the courage to be seen. Through guided reflection\, discussion\, and experiential exercises\, participants will examine the inner critic\, reconnect with their strengths\, and explore what it means to embrace their wholeness. \nThe workshop will conclude with a reflective sound healing experience to support grounding and integration. \n  \nSpace is limited. \nRegistration: https://square.link/u/kle6V6rn
URL:https://innerpeacepsych.com/event/stepping-into-the-light-confidence-visibility-being-seen/
LOCATION:Inner Peace Psychological Care\, 999 Plaza Dr Suite 380\, Schaumburg\, IL\, 60173\, United States
CATEGORIES:Workshops
ATTACH;FMTTYPE=image/png:https://innerpeacepsych.com/wp-content/uploads/2026/04/Stepping-Into-the-Light.png
ORGANIZER;CN="Inner Peace Psychological Care":MAILTO:info@innerpeacepsych.com
END:VEVENT
BEGIN:VEVENT
DTSTART;TZID=America/Chicago:20260618T173000
DTEND;TZID=America/Chicago:20260618T190000
DTSTAMP:20260423T075644
CREATED:20260331T204446Z
LAST-MODIFIED:20260331T204908Z
UID:5253-1781803800-1781809200@innerpeacepsych.com
SUMMARY:Peaceful Resonance
DESCRIPTION:Step into a serene space and experience Peaceful Resonance\, an evening designed to soothe your mind\, body\, and spirit. In this 60 minute session\, you’ll be guided through a series of restorative practices that help release stress\, restore balance\, and invite inner calm: \n\nSound Bath – immerse yourself in healing vibrations that quiet the mind and open the heart\nGuided Meditation – Be led into a tranquil state of mindfulness\, helping you reconnect and find inner stillness\nReiki Energy Healing – gentle energy work to harmonize your body and mind.\nEar Seeds for Stress Reduction – a subtle\, effective method to ease tension and promote relaxation\n\nDate & Time: Thursday\, June 18th | 5:30 – 7:00 PM\nLocation: 999 N Plaza Dr\, Schaumburg IL Suite 380 \nPresenters: Victoria Kowalska and Teri Calandra\, L.Ac. \nJoin us for this therapeutic\, tranquil journey and leave feeling lighter\, centered\, and deeply at peace. \nLink to register: https://square.link/u/LFleUyNe
URL:https://innerpeacepsych.com/event/peaceful-resonance/
LOCATION:Inner Peace Psychological Care\, 999 Plaza Dr Suite 380\, Schaumburg\, IL\, 60173\, United States
ATTACH;FMTTYPE=image/png:https://innerpeacepsych.com/wp-content/uploads/2026/03/Peaceful-Resonance.png
ORGANIZER;CN="Inner Peace Psychological Care":MAILTO:info@innerpeacepsych.com
END:VEVENT
END:VCALENDAR